Package: ibh Version: 1.57.0 Command: F:\biocbuild\bbs-3.22-bioc\R\bin\R.exe CMD check --no-multiarch --install=check:ibh.install-out.txt --library=F:\biocbuild\bbs-3.22-bioc\R\library --no-vignettes --timings ibh_1.57.0.tar.gz StartedAt: 2025-07-15 03:01:58 -0400 (Tue, 15 Jul 2025) EndedAt: 2025-07-15 03:02:31 -0400 (Tue, 15 Jul 2025) EllapsedTime: 33.2 seconds RetCode: 0 Status: OK CheckDir: ibh.Rcheck Warnings: 0