Package: ibh Version: 1.57.0 Command: /Library/Frameworks/R.framework/Resources/bin/R CMD build --keep-empty-dirs --no-resave-data ibh StartedAt: 2025-07-21 16:37:38 -0400 (Mon, 21 Jul 2025) EndedAt: 2025-07-21 16:37:42 -0400 (Mon, 21 Jul 2025) EllapsedTime: 4.1 seconds RetCode: 0 Status: OK PackageFile: ibh_1.57.0.tar.gz PackageFileSize: 127.4 KiB