Package: ibh Version: 1.57.0 Command: rm -rf ibh.buildbin-libdir && mkdir ibh.buildbin-libdir && /Users/biocbuild/BBS/utils/build-universal.sh ibh_1.57.0.tar.gz /Library/Frameworks/R.framework/Resources/bin/R ibh.buildbin-libdir StartedAt: 2025-07-21 22:28:43 -0400 (Mon, 21 Jul 2025) EndedAt: 2025-07-21 22:28:45 -0400 (Mon, 21 Jul 2025) EllapsedTime: 2.1 seconds RetCode: 0 Status: OK PackageFile: ibh_1.57.0.tgz PackageFileSize: 157.6 KiB