Package: iasva Version: 1.27.0 Command: /home/biocbuild/R/R/bin/R CMD INSTALL iasva StartedAt: 2025-07-24 21:19:37 -0000 (Thu, 24 Jul 2025) EndedAt: 2025-07-24 21:20:03 -0000 (Thu, 24 Jul 2025) EllapsedTime: 26.3 seconds RetCode: 0 Status: OK