Package: iasva Version: 1.27.0 Command: F:\biocbuild\bbs-3.22-bioc\R\bin\R.exe CMD check --no-multiarch --install=check:iasva.install-out.txt --library=F:\biocbuild\bbs-3.22-bioc\R\library --no-vignettes --timings iasva_1.27.0.tar.gz StartedAt: 2025-07-21 03:06:14 -0400 (Mon, 21 Jul 2025) EndedAt: 2025-07-21 03:10:03 -0400 (Mon, 21 Jul 2025) EllapsedTime: 228.9 seconds RetCode: 0 Status: OK CheckDir: iasva.Rcheck Warnings: 0