Package: iasva Version: 1.27.0 Command: /Library/Frameworks/R.framework/Resources/bin/R CMD check --install=check:iasva.install-out.txt --library=/Library/Frameworks/R.framework/Resources/library --no-vignettes --timings iasva_1.27.0.tar.gz StartedAt: 2025-07-13 21:23:07 -0400 (Sun, 13 Jul 2025) EndedAt: 2025-07-13 21:26:41 -0400 (Sun, 13 Jul 2025) EllapsedTime: 214.6 seconds RetCode: 0 Status: OK CheckDir: iasva.Rcheck Warnings: 0