Package: iSEEu Version: 1.21.0 Command: /home/biocbuild/R/R/bin/R CMD check --install=check:iSEEu.install-out.txt --library=/home/biocbuild/R/R/site-library --no-vignettes --timings iSEEu_1.21.0.tar.gz StartedAt: 2025-07-15 08:44:33 -0000 (Tue, 15 Jul 2025) EndedAt: 2025-07-15 08:50:36 -0000 (Tue, 15 Jul 2025) EllapsedTime: 363.4 seconds RetCode: 0 Status: WARNINGS CheckDir: iSEEu.Rcheck Warnings: 1