Package: iSEEu Version: 1.21.0 Command: /home/biocbuild/R/R/bin/R CMD build --keep-empty-dirs --no-resave-data iSEEu StartedAt: 2025-07-15 00:28:33 -0000 (Tue, 15 Jul 2025) EndedAt: 2025-07-15 00:31:19 -0000 (Tue, 15 Jul 2025) EllapsedTime: 166.1 seconds RetCode: 0 Status: OK PackageFile: iSEEu_1.21.0.tar.gz PackageFileSize: 1.644 MiB