Package: iSEEu Version: 1.21.0 Command: F:\biocbuild\bbs-3.22-bioc\R\bin\R.exe CMD check --no-multiarch --install=check:iSEEu.install-out.txt --library=F:\biocbuild\bbs-3.22-bioc\R\library --no-vignettes --timings iSEEu_1.21.0.tar.gz StartedAt: 2025-07-02 03:10:07 -0400 (Wed, 02 Jul 2025) EndedAt: 2025-07-02 03:16:33 -0400 (Wed, 02 Jul 2025) EllapsedTime: 386.0 seconds RetCode: 0 Status: WARNINGS CheckDir: iSEEu.Rcheck Warnings: 1