Package: iSEEu Version: 1.21.0 Command: /Library/Frameworks/R.framework/Resources/bin/R CMD INSTALL iSEEu StartedAt: 2025-07-01 15:38:05 -0400 (Tue, 01 Jul 2025) EndedAt: 2025-07-01 15:38:51 -0400 (Tue, 01 Jul 2025) EllapsedTime: 46.1 seconds RetCode: 0 Status: OK