Package: iSEEu Version: 1.21.0 Command: rm -rf iSEEu.buildbin-libdir && mkdir iSEEu.buildbin-libdir && /Users/biocbuild/BBS/utils/build-universal.sh iSEEu_1.21.0.tar.gz /Library/Frameworks/R.framework/Resources/bin/R iSEEu.buildbin-libdir StartedAt: 2025-07-02 01:02:56 -0400 (Wed, 02 Jul 2025) EndedAt: 2025-07-02 01:03:47 -0400 (Wed, 02 Jul 2025) EllapsedTime: 50.8 seconds RetCode: 0 Status: OK PackageFile: iSEEu_1.21.0.tgz PackageFileSize: 1.43 MiB