Package: iSEEu Version: 1.21.0 Command: /Library/Frameworks/R.framework/Resources/bin/R CMD INSTALL iSEEu StartedAt: 2025-07-01 15:12:39 -0400 (Tue, 01 Jul 2025) EndedAt: 2025-07-01 15:12:53 -0400 (Tue, 01 Jul 2025) EllapsedTime: 14.3 seconds RetCode: 0 Status: OK