Package: iSEEu Version: 1.21.0 Command: /Library/Frameworks/R.framework/Resources/bin/R CMD check --install=check:iSEEu.install-out.txt --library=/Library/Frameworks/R.framework/Resources/library --no-vignettes --timings iSEEu_1.21.0.tar.gz StartedAt: 2025-07-01 19:48:12 -0400 (Tue, 01 Jul 2025) EndedAt: 2025-07-01 19:50:18 -0400 (Tue, 01 Jul 2025) EllapsedTime: 125.7 seconds RetCode: 0 Status: WARNINGS CheckDir: iSEEu.Rcheck Warnings: 1