Package: iSEEu Version: 1.21.0 Command: /Library/Frameworks/R.framework/Resources/bin/R CMD build --keep-empty-dirs --no-resave-data iSEEu StartedAt: 2025-07-01 16:41:59 -0400 (Tue, 01 Jul 2025) EndedAt: 2025-07-01 16:42:42 -0400 (Tue, 01 Jul 2025) EllapsedTime: 43.5 seconds RetCode: 0 Status: OK PackageFile: iSEEu_1.21.0.tar.gz PackageFileSize: 1.62 MiB