Package: iSEEu Version: 1.21.0 Command: rm -rf iSEEu.buildbin-libdir && mkdir iSEEu.buildbin-libdir && /Users/biocbuild/BBS/utils/build-universal.sh iSEEu_1.21.0.tar.gz /Library/Frameworks/R.framework/Resources/bin/R iSEEu.buildbin-libdir StartedAt: 2025-07-01 22:22:57 -0400 (Tue, 01 Jul 2025) EndedAt: 2025-07-01 22:23:12 -0400 (Tue, 01 Jul 2025) EllapsedTime: 15.4 seconds RetCode: 0 Status: OK PackageFile: iSEEu_1.21.0.tgz PackageFileSize: 1.431 MiB