Package: iSEEpathways Version: 1.7.0 Command: chmod a+r iSEEpathways -R && F:\biocbuild\bbs-3.22-bioc\R\bin\R.exe CMD build --keep-empty-dirs --no-resave-data iSEEpathways StartedAt: 2025-07-14 19:53:46 -0400 (Mon, 14 Jul 2025) EndedAt: 2025-07-14 19:59:38 -0400 (Mon, 14 Jul 2025) EllapsedTime: 352.2 seconds RetCode: 0 Status: OK PackageFile: iSEEpathways_1.7.0.tar.gz PackageFileSize: 2.14 MiB