Package: iSEEpathways Version: 1.7.0 Command: rm -rf iSEEpathways.buildbin-libdir && mkdir iSEEpathways.buildbin-libdir && F:\biocbuild\bbs-3.22-bioc\R\bin\R.exe CMD INSTALL --build --library=iSEEpathways.buildbin-libdir iSEEpathways_1.7.0.tar.gz StartedAt: 2025-07-15 09:12:01 -0400 (Tue, 15 Jul 2025) EndedAt: 2025-07-15 09:13:10 -0400 (Tue, 15 Jul 2025) EllapsedTime: 69.4 seconds RetCode: 0 Status: OK PackageFile: iSEEpathways_1.7.0.zip PackageFileSize: 1.791 MiB