Package: iSEEpathways Version: 1.7.0 Command: /Library/Frameworks/R.framework/Resources/bin/R CMD build --keep-empty-dirs --no-resave-data iSEEpathways StartedAt: 2025-06-30 17:11:36 -0400 (Mon, 30 Jun 2025) EndedAt: 2025-06-30 17:14:40 -0400 (Mon, 30 Jun 2025) EllapsedTime: 183.9 seconds RetCode: 0 Status: OK PackageFile: iSEEpathways_1.7.0.tar.gz PackageFileSize: 2.138 MiB