Package: iSEEpathways Version: 1.7.0 Command: rm -rf iSEEpathways.buildbin-libdir && mkdir iSEEpathways.buildbin-libdir && /Users/biocbuild/BBS/utils/build-universal.sh iSEEpathways_1.7.0.tar.gz /Library/Frameworks/R.framework/Resources/bin/R iSEEpathways.buildbin-libdir StartedAt: 2025-07-01 00:46:06 -0400 (Tue, 01 Jul 2025) EndedAt: 2025-07-01 00:46:51 -0400 (Tue, 01 Jul 2025) EllapsedTime: 44.8 seconds RetCode: 0 Status: OK PackageFile: iSEEpathways_1.7.0.tgz PackageFileSize: 1.781 MiB