Package: iSEEpathways Version: 1.7.0 Command: /Library/Frameworks/R.framework/Resources/bin/R CMD INSTALL iSEEpathways StartedAt: 2025-06-29 15:15:53 -0400 (Sun, 29 Jun 2025) EndedAt: 2025-06-29 15:16:06 -0400 (Sun, 29 Jun 2025) EllapsedTime: 12.9 seconds RetCode: 0 Status: OK