Package: iSEEpathways Version: 1.7.0 Command: /Library/Frameworks/R.framework/Resources/bin/R CMD check --install=check:iSEEpathways.install-out.txt --library=/Library/Frameworks/R.framework/Resources/library --no-vignettes --timings iSEEpathways_1.7.0.tar.gz StartedAt: 2025-06-29 19:48:43 -0400 (Sun, 29 Jun 2025) EndedAt: 2025-06-29 19:50:04 -0400 (Sun, 29 Jun 2025) EllapsedTime: 81.0 seconds RetCode: 0 Status: OK CheckDir: iSEEpathways.Rcheck Warnings: 0