Package: iSEEpathways Version: 1.7.0 Command: rm -rf iSEEpathways.buildbin-libdir && mkdir iSEEpathways.buildbin-libdir && /Users/biocbuild/BBS/utils/build-universal.sh iSEEpathways_1.7.0.tar.gz /Library/Frameworks/R.framework/Resources/bin/R iSEEpathways.buildbin-libdir StartedAt: 2025-06-29 22:22:06 -0400 (Sun, 29 Jun 2025) EndedAt: 2025-06-29 22:22:19 -0400 (Sun, 29 Jun 2025) EllapsedTime: 13.3 seconds RetCode: 0 Status: OK PackageFile: iSEEpathways_1.7.0.tgz PackageFileSize: 1.783 MiB