Package: iSEEhub Version: 1.11.0 Command: F:\biocbuild\bbs-3.22-bioc\R\bin\R.exe CMD INSTALL iSEEhub StartedAt: 2025-08-14 16:12:14 -0400 (Thu, 14 Aug 2025) EndedAt: 2025-08-14 16:12:59 -0400 (Thu, 14 Aug 2025) EllapsedTime: 45.6 seconds RetCode: 0 Status: OK