Package: iSEEhub Version: 1.11.0 Command: chmod a+r iSEEhub -R && F:\biocbuild\bbs-3.22-bioc\R\bin\R.exe CMD build --keep-empty-dirs --no-resave-data iSEEhub StartedAt: 2025-08-14 20:59:47 -0400 (Thu, 14 Aug 2025) EndedAt: 2025-08-14 21:01:13 -0400 (Thu, 14 Aug 2025) EllapsedTime: 86.6 seconds RetCode: 0 Status: OK PackageFile: iSEEhub_1.11.0.tar.gz PackageFileSize: 6.62 MiB