Package: iSEEhub Version: 1.11.0 Command: rm -rf iSEEhub.buildbin-libdir && mkdir iSEEhub.buildbin-libdir && F:\biocbuild\bbs-3.22-bioc\R\bin\R.exe CMD INSTALL --build --library=iSEEhub.buildbin-libdir iSEEhub_1.11.0.tar.gz StartedAt: 2025-08-15 10:31:54 -0400 (Fri, 15 Aug 2025) EndedAt: 2025-08-15 10:32:33 -0400 (Fri, 15 Aug 2025) EllapsedTime: 38.9 seconds RetCode: 0 Status: OK PackageFile: iSEEhub_1.11.0.zip PackageFileSize: 3.69 MiB