Package: iSEEde Version: 1.7.0 Command: /home/biocbuild/R/R/bin/R CMD INSTALL iSEEde StartedAt: 2025-07-14 20:38:42 -0000 (Mon, 14 Jul 2025) EndedAt: 2025-07-14 20:39:26 -0000 (Mon, 14 Jul 2025) EllapsedTime: 44.6 seconds RetCode: 0 Status: OK