Package: iSEEde Version: 1.7.0 Command: /home/biocbuild/R/R/bin/R CMD check --install=check:iSEEde.install-out.txt --library=/home/biocbuild/R/R/site-library --no-vignettes --timings iSEEde_1.7.0.tar.gz StartedAt: 2025-07-15 08:42:59 -0000 (Tue, 15 Jul 2025) EndedAt: 2025-07-15 08:48:14 -0000 (Tue, 15 Jul 2025) EllapsedTime: 315.3 seconds RetCode: 0 Status: OK CheckDir: iSEEde.Rcheck Warnings: 0