Package: iSEEde Version: 1.7.0 Command: F:\biocbuild\bbs-3.22-bioc\R\bin\R.exe CMD INSTALL iSEEde StartedAt: 2025-07-22 16:24:07 -0400 (Tue, 22 Jul 2025) EndedAt: 2025-07-22 16:24:52 -0400 (Tue, 22 Jul 2025) EllapsedTime: 44.8 seconds RetCode: 0 Status: OK