Package: iSEEde Version: 1.7.0 Command: chmod a+r iSEEde -R && F:\biocbuild\bbs-3.22-bioc\R\bin\R.exe CMD build --keep-empty-dirs --no-resave-data iSEEde StartedAt: 2025-07-22 19:52:23 -0400 (Tue, 22 Jul 2025) EndedAt: 2025-07-22 19:55:15 -0400 (Tue, 22 Jul 2025) EllapsedTime: 171.6 seconds RetCode: 0 Status: OK PackageFile: iSEEde_1.7.0.tar.gz PackageFileSize: 3.091 MiB