Package: iSEEde Version: 1.7.0 Command: rm -rf iSEEde.buildbin-libdir && mkdir iSEEde.buildbin-libdir && F:\biocbuild\bbs-3.22-bioc\R\bin\R.exe CMD INSTALL --build --library=iSEEde.buildbin-libdir iSEEde_1.7.0.tar.gz StartedAt: 2025-07-23 09:22:39 -0400 (Wed, 23 Jul 2025) EndedAt: 2025-07-23 09:23:36 -0400 (Wed, 23 Jul 2025) EllapsedTime: 57.2 seconds RetCode: 0 Status: OK PackageFile: iSEEde_1.7.0.zip PackageFileSize: 2.428 MiB