Package: iSEEde Version: 1.7.0 Command: /Library/Frameworks/R.framework/Resources/bin/R CMD INSTALL iSEEde StartedAt: 2025-07-01 15:38:36 -0400 (Tue, 01 Jul 2025) EndedAt: 2025-07-01 15:39:20 -0400 (Tue, 01 Jul 2025) EllapsedTime: 44.0 seconds RetCode: 0 Status: OK