Package: iSEEde Version: 1.7.0 Command: rm -rf iSEEde.buildbin-libdir && mkdir iSEEde.buildbin-libdir && /Users/biocbuild/BBS/utils/build-universal.sh iSEEde_1.7.0.tar.gz /Library/Frameworks/R.framework/Resources/bin/R iSEEde.buildbin-libdir StartedAt: 2025-07-02 01:02:41 -0400 (Wed, 02 Jul 2025) EndedAt: 2025-07-02 01:03:29 -0400 (Wed, 02 Jul 2025) EllapsedTime: 48.3 seconds RetCode: 0 Status: OK PackageFile: iSEEde_1.7.0.tgz PackageFileSize: 2.417 MiB