Package: iSEE Version: 2.21.1 Command: /home/biocbuild/R/R/bin/R CMD INSTALL iSEE StartedAt: 2025-07-14 20:36:53 -0000 (Mon, 14 Jul 2025) EndedAt: 2025-07-14 20:37:47 -0000 (Mon, 14 Jul 2025) EllapsedTime: 53.8 seconds RetCode: 0 Status: OK