Package: iSEE Version: 2.21.1 Command: /home/biocbuild/R/R/bin/R CMD build --keep-empty-dirs --no-resave-data iSEE StartedAt: 2025-07-15 00:27:05 -0000 (Tue, 15 Jul 2025) EndedAt: 2025-07-15 00:29:57 -0000 (Tue, 15 Jul 2025) EllapsedTime: 172.1 seconds RetCode: 0 Status: OK PackageFile: iSEE_2.21.1.tar.gz PackageFileSize: 26.3 MiB