Package: iSEE Version: 2.21.1 Command: chmod a+r iSEE -R && F:\biocbuild\bbs-3.22-bioc\R\bin\R.exe CMD build --keep-empty-dirs --no-resave-data iSEE StartedAt: 2025-08-14 20:59:14 -0400 (Thu, 14 Aug 2025) EndedAt: 2025-08-14 21:03:01 -0400 (Thu, 14 Aug 2025) EllapsedTime: 227.4 seconds RetCode: 0 Status: OK PackageFile: iSEE_2.21.1.tar.gz PackageFileSize: 25.61 MiB