Package: iSEE Version: 2.21.1 Command: /Library/Frameworks/R.framework/Resources/bin/R CMD INSTALL iSEE StartedAt: 2025-07-01 15:36:30 -0400 (Tue, 01 Jul 2025) EndedAt: 2025-07-01 15:37:25 -0400 (Tue, 01 Jul 2025) EllapsedTime: 55.1 seconds RetCode: 0 Status: OK