Package: iSEE Version: 2.21.1 Command: /Library/Frameworks/R.framework/Resources/bin/R CMD check --install=check:iSEE.install-out.txt --library=/Library/Frameworks/R.framework/Resources/library --no-vignettes --timings iSEE_2.21.1.tar.gz StartedAt: 2025-07-01 21:29:28 -0400 (Tue, 01 Jul 2025) EndedAt: 2025-07-01 21:35:24 -0400 (Tue, 01 Jul 2025) EllapsedTime: 356.7 seconds RetCode: 0 Status: OK CheckDir: iSEE.Rcheck Warnings: 0