Package: iSEE Version: 2.21.1 Command: /Library/Frameworks/R.framework/Resources/bin/R CMD build --keep-empty-dirs --no-resave-data iSEE StartedAt: 2025-07-01 17:24:59 -0400 (Tue, 01 Jul 2025) EndedAt: 2025-07-01 17:27:32 -0400 (Tue, 01 Jul 2025) EllapsedTime: 153.0 seconds RetCode: 0 Status: OK PackageFile: iSEE_2.21.1.tar.gz PackageFileSize: 25.61 MiB