Package: iSEE Version: 2.21.1 Command: /Library/Frameworks/R.framework/Resources/bin/R CMD INSTALL iSEE StartedAt: 2025-07-14 15:14:44 -0400 (Mon, 14 Jul 2025) EndedAt: 2025-07-14 15:15:00 -0400 (Mon, 14 Jul 2025) EllapsedTime: 15.7 seconds RetCode: 0 Status: OK