Package: iSEE Version: 2.21.1 Command: /Library/Frameworks/R.framework/Resources/bin/R CMD check --install=check:iSEE.install-out.txt --library=/Library/Frameworks/R.framework/Resources/library --no-vignettes --timings iSEE_2.21.1.tar.gz StartedAt: 2025-07-14 19:47:32 -0400 (Mon, 14 Jul 2025) EndedAt: 2025-07-14 19:49:34 -0400 (Mon, 14 Jul 2025) EllapsedTime: 122.5 seconds RetCode: 0 Status: OK CheckDir: iSEE.Rcheck Warnings: 0