Package: iPAC Version: 1.51.1 Command: F:\biocbuild\bbs-3.22-bioc\R\bin\R.exe CMD INSTALL iPAC StartedAt: 2025-04-08 16:47:45 -0400 (Tue, 08 Apr 2025) EndedAt: 2025-04-08 16:48:09 -0400 (Tue, 08 Apr 2025) EllapsedTime: 23.2 seconds RetCode: 0 Status: OK