Package: iPAC Version: 1.51.1 Command: F:\biocbuild\bbs-3.22-bioc\R\bin\R.exe CMD check --no-multiarch --install=check:iPAC.install-out.txt --library=F:\biocbuild\bbs-3.22-bioc\R\library --no-vignettes --timings iPAC_1.51.1.tar.gz StartedAt: 2025-04-09 03:23:00 -0400 (Wed, 09 Apr 2025) EndedAt: 2025-04-09 03:27:18 -0400 (Wed, 09 Apr 2025) EllapsedTime: 258.1 seconds RetCode: 0 Status: OK CheckDir: iPAC.Rcheck Warnings: 0