Package: iPAC Version: 1.51.1 Command: chmod a+r iPAC -R && F:\biocbuild\bbs-3.22-bioc\R\bin\R.exe CMD build --keep-empty-dirs --no-resave-data iPAC StartedAt: 2025-04-08 20:01:24 -0400 (Tue, 08 Apr 2025) EndedAt: 2025-04-08 20:01:50 -0400 (Tue, 08 Apr 2025) EllapsedTime: 26.0 seconds RetCode: 0 Status: OK PackageFile: iPAC_1.51.1.tar.gz PackageFileSize: 451.2 KiB