Package: iNETgrate Version: 1.7.0 Command: /home/biocbuild/R/R/bin/R CMD INSTALL iNETgrate StartedAt: 2025-07-10 22:14:56 -0000 (Thu, 10 Jul 2025) EndedAt: 2025-07-10 22:16:14 -0000 (Thu, 10 Jul 2025) EllapsedTime: 77.4 seconds RetCode: 0 Status: OK