Package: iNETgrate Version: 1.7.0 Command: /home/biocbuild/R/R/bin/R CMD check --install=check:iNETgrate.install-out.txt --library=/home/biocbuild/R/R/site-library --no-vignettes --timings iNETgrate_1.7.0.tar.gz StartedAt: 2025-07-11 09:17:38 -0000 (Fri, 11 Jul 2025) EndedAt: 2025-07-11 09:33:47 -0000 (Fri, 11 Jul 2025) EllapsedTime: 968.9 seconds RetCode: 0 Status: OK CheckDir: iNETgrate.Rcheck Warnings: 0