Package: iGC Version: 1.39.0 Command: /home/biocbuild/R/R/bin/R CMD check --install=check:iGC.install-out.txt --library=/home/biocbuild/R/R/site-library --no-vignettes --timings iGC_1.39.0.tar.gz StartedAt: 2025-07-22 08:25:26 -0000 (Tue, 22 Jul 2025) EndedAt: 2025-07-22 08:25:50 -0000 (Tue, 22 Jul 2025) EllapsedTime: 24.0 seconds RetCode: 0 Status: OK CheckDir: iGC.Rcheck Warnings: 0