Package: iGC Version: 1.39.0 Command: /Library/Frameworks/R.framework/Resources/bin/R CMD INSTALL iGC StartedAt: 2025-07-13 15:09:24 -0400 (Sun, 13 Jul 2025) EndedAt: 2025-07-13 15:09:58 -0400 (Sun, 13 Jul 2025) EllapsedTime: 33.6 seconds RetCode: 0 Status: OK