Package: iChip Version: 1.63.0 Command: rm -rf iChip.buildbin-libdir && mkdir iChip.buildbin-libdir && /Users/biocbuild/BBS/utils/build-universal.sh iChip_1.63.0.tar.gz /Library/Frameworks/R.framework/Resources/bin/R iChip.buildbin-libdir StartedAt: 2025-06-30 22:17:18 -0400 (Mon, 30 Jun 2025) EndedAt: 2025-06-30 22:17:21 -0400 (Mon, 30 Jun 2025) EllapsedTime: 3.1 seconds RetCode: 0 Status: OK PackageFile: iChip_1.63.0.tgz PackageFileSize: 1.921 MiB