Package: iCheck Version: 1.39.0 Command: /home/biocbuild/R/R/bin/R CMD build --keep-empty-dirs --no-resave-data iCheck StartedAt: 2025-07-22 00:26:45 -0000 (Tue, 22 Jul 2025) EndedAt: 2025-07-22 00:28:09 -0000 (Tue, 22 Jul 2025) EllapsedTime: 84.0 seconds RetCode: 0 Status: OK PackageFile: iCheck_1.39.0.tar.gz PackageFileSize: 547.3 KiB