Package: iCNV Version: 1.29.0 Command: /home/biocbuild/R/R/bin/R CMD INSTALL iCNV StartedAt: 2025-07-14 20:52:24 -0000 (Mon, 14 Jul 2025) EndedAt: 2025-07-14 20:53:05 -0000 (Mon, 14 Jul 2025) EllapsedTime: 41.6 seconds RetCode: 0 Status: OK